BEGIN:VCALENDAR
VERSION:2.0
PRODID:-//Northern Gardener - ECPv6.15.20//NONSGML v1.0//EN
CALSCALE:GREGORIAN
METHOD:PUBLISH
X-WR-CALNAME:Northern Gardener
X-ORIGINAL-URL:https://northerngardener.org
X-WR-CALDESC:Events for Northern Gardener
REFRESH-INTERVAL;VALUE=DURATION:PT1H
X-Robots-Tag:noindex
X-PUBLISHED-TTL:PT1H
BEGIN:VTIMEZONE
TZID:America/Chicago
BEGIN:DAYLIGHT
TZOFFSETFROM:-0600
TZOFFSETTO:-0500
TZNAME:CDT
DTSTART:20250309T080000
END:DAYLIGHT
BEGIN:STANDARD
TZOFFSETFROM:-0500
TZOFFSETTO:-0600
TZNAME:CST
DTSTART:20251102T070000
END:STANDARD
BEGIN:DAYLIGHT
TZOFFSETFROM:-0600
TZOFFSETTO:-0500
TZNAME:CDT
DTSTART:20260308T080000
END:DAYLIGHT
BEGIN:STANDARD
TZOFFSETFROM:-0500
TZOFFSETTO:-0600
TZNAME:CST
DTSTART:20261101T070000
END:STANDARD
BEGIN:DAYLIGHT
TZOFFSETFROM:-0600
TZOFFSETTO:-0500
TZNAME:CDT
DTSTART:20270314T080000
END:DAYLIGHT
BEGIN:STANDARD
TZOFFSETFROM:-0500
TZOFFSETTO:-0600
TZNAME:CST
DTSTART:20271107T070000
END:STANDARD
END:VTIMEZONE
BEGIN:VEVENT
DTSTART;TZID=America/Chicago:20260420T192500
DTEND;TZID=America/Chicago:20260420T202500
DTSTAMP:20260422T210159
CREATED:20260316T170121Z
LAST-MODIFIED:20260316T170121Z
UID:10005378-1776713100-1776716700@northerngardener.org
SUMMARY:Adding Vertical Elements to the Garden
DESCRIPTION:Guest Speaker – Jennifer Knutson \nJennifer is a graduate of the University of Wisconsin – Madison. She has been a University of Minnesota Extension Master Gardener since 2007. Jennifer is a member of the Minnesota Horticultural Society and North Star Lily Society. She has been writing a garden column that is published in the Brainerd Dispatch since 2008. \nAdding a Vertical Element to the Garden with Vines\nClimbing vines have a special charm that goes beyond adding vertical interest to a garden. They can have a softening effect on a fence\, add beauty to garden structures\, or act as a screen. Their lush leaves and appealing flowers decorate the landscape with color and texture. Some provide edible or ornamental fruit\, late-season decorative seed pods\, colorful fall foliage\, or fragrance. Popular perennial and annual vines will be discussed in this presentation.
URL:https://northerngardener.org/event/adding-vertical-elements-to-the-garden/
LOCATION:St. Luke Lutheran Church\, 1807 Field Ave\, St. Paul\, 55116
CATEGORIES:Community Event
ORGANIZER;CN="Garden Club of Ramsey County":MAILTO:cmorse1956@gmail.com
END:VEVENT
END:VCALENDAR