BEGIN:VCALENDAR
VERSION:2.0
PRODID:-//Northern Gardener - ECPv6.15.20//NONSGML v1.0//EN
CALSCALE:GREGORIAN
METHOD:PUBLISH
X-ORIGINAL-URL:https://northerngardener.org
X-WR-CALDESC:Events for Northern Gardener
REFRESH-INTERVAL;VALUE=DURATION:PT1H
X-Robots-Tag:noindex
X-PUBLISHED-TTL:PT1H
BEGIN:VTIMEZONE
TZID:America/Chicago
BEGIN:DAYLIGHT
TZOFFSETFROM:-0600
TZOFFSETTO:-0500
TZNAME:CDT
DTSTART:20250309T080000
END:DAYLIGHT
BEGIN:STANDARD
TZOFFSETFROM:-0500
TZOFFSETTO:-0600
TZNAME:CST
DTSTART:20251102T070000
END:STANDARD
BEGIN:DAYLIGHT
TZOFFSETFROM:-0600
TZOFFSETTO:-0500
TZNAME:CDT
DTSTART:20260308T080000
END:DAYLIGHT
BEGIN:STANDARD
TZOFFSETFROM:-0500
TZOFFSETTO:-0600
TZNAME:CST
DTSTART:20261101T070000
END:STANDARD
BEGIN:DAYLIGHT
TZOFFSETFROM:-0600
TZOFFSETTO:-0500
TZNAME:CDT
DTSTART:20270314T080000
END:DAYLIGHT
BEGIN:STANDARD
TZOFFSETFROM:-0500
TZOFFSETTO:-0600
TZNAME:CST
DTSTART:20271107T070000
END:STANDARD
END:VTIMEZONE
BEGIN:VEVENT
DTSTART;TZID=America/Chicago:20260606T090000
DTEND;TZID=America/Chicago:20260606T130000
DTSTAMP:20260422T223657
CREATED:20260420T202333Z
LAST-MODIFIED:20260420T202334Z
UID:10005436-1780736400-1780750800@northerngardener.org
SUMMARY:Volunteer Tree Planting in Superior National Forest
DESCRIPTION:Volunteers will partner with Great River Greening and Superior National Forest to plant trees as part of a reforestation effort at Ninemile Campground. Volunteers will learn about forest management strategies in the face of wildfires and destructive eastern spruce budworm populations.   For those interested in camping\, there are campground spots available for reservation and/or first-come\, first-serve basis at the site or other nearby state and federal campgrounds. To reserve a spot at Ninemile Campground\, visit  https://www.recreation.gov/camping/campgrounds/240958?tab=info 
URL:https://northerngardener.org/event/volunteer-tree-planting-in-superior-national-forest/
LOCATION:Ninemile Campground Superior National Forest\, County Rd. 7\, Finland\, MN\, 55603\, United States
CATEGORIES:Community Event
ATTACH;FMTTYPE=image/png:https://northerngardener.org/wp-content/uploads/2026/04/GRG_LOGO_Stacked_PMS.png
ORGANIZER;CN="Great River Greening":MAILTO:jdrummond@greatrivergreening.org
END:VEVENT
END:VCALENDAR