BEGIN:VCALENDAR
VERSION:2.0
PRODID:-//Northern Gardener - ECPv6.15.20//NONSGML v1.0//EN
CALSCALE:GREGORIAN
METHOD:PUBLISH
X-ORIGINAL-URL:https://northerngardener.org
X-WR-CALDESC:Events for Northern Gardener
REFRESH-INTERVAL;VALUE=DURATION:PT1H
X-Robots-Tag:noindex
X-PUBLISHED-TTL:PT1H
BEGIN:VTIMEZONE
TZID:America/Chicago
BEGIN:DAYLIGHT
TZOFFSETFROM:-0600
TZOFFSETTO:-0500
TZNAME:CDT
DTSTART:20250309T080000
END:DAYLIGHT
BEGIN:STANDARD
TZOFFSETFROM:-0500
TZOFFSETTO:-0600
TZNAME:CST
DTSTART:20251102T070000
END:STANDARD
BEGIN:DAYLIGHT
TZOFFSETFROM:-0600
TZOFFSETTO:-0500
TZNAME:CDT
DTSTART:20260308T080000
END:DAYLIGHT
BEGIN:STANDARD
TZOFFSETFROM:-0500
TZOFFSETTO:-0600
TZNAME:CST
DTSTART:20261101T070000
END:STANDARD
BEGIN:DAYLIGHT
TZOFFSETFROM:-0600
TZOFFSETTO:-0500
TZNAME:CDT
DTSTART:20270314T080000
END:DAYLIGHT
BEGIN:STANDARD
TZOFFSETFROM:-0500
TZOFFSETTO:-0600
TZNAME:CST
DTSTART:20271107T070000
END:STANDARD
END:VTIMEZONE
BEGIN:VEVENT
DTSTART;TZID=America/Chicago:20260815T130000
DTEND;TZID=America/Chicago:20260815T163000
DTSTAMP:20260423T001301
CREATED:20260316T170153Z
LAST-MODIFIED:20260316T170153Z
UID:10005382-1786798800-1786811400@northerngardener.org
SUMMARY:Garden Club of Minneapolis hosts Annual Flower\, Food & Foto Show
DESCRIPTION:The Garden Club of Minneapolis extends an invitation to all interested people to participate in its annual Flower\, Food & Foto Show\, a free and open-to-the-public competition celebrating horticultural and photographic achievements. Whether you are a beginning gardener or an advanced enthusiast\, we welcome you to enter your best flowers\, vegetables\, floral designs\, or photos. You do not need to be a Club member to take part in the competition. \nThis year’s featured flower is marigold\, the featured vegetable is summer squash\, and the floral design theme is “Art\, Color\, & Flowers.” Show entries will be accepted on Saturday\, August 15th\, from 7:30 to 10:15 am\, with judging to follow from 10:45 am to 1:00 pm. Photo entries must be submitted by Friday\, July 31st (full photo contest rules are on our website). \nFor more information\, visit the Garden Club of Minneapolis Flower\, Food & Foto Show page at https://gardenclubmpls.org/flower-food-foto-show/ Links to the 2026 Flower\, Food & Foto Rules and Schedule\, as well as photo contest rules\, can be found towards the bottom of the page.
URL:https://northerngardener.org/event/garden-club-of-minneapolis-hosts-annual-flower-food-foto-show/
LOCATION:Bachman’s on Lyndale (Heritage Room)\, 6010 Lyndale Ave S\, Minneapolis\, Minnesota\, 55419\, United States
CATEGORIES:Community Event
ATTACH;FMTTYPE=image/jpeg:https://northerngardener.org/wp-content/uploads/2026/03/Rose-2-scaled.jpeg
END:VEVENT
BEGIN:VEVENT
DTSTART;TZID=America/Chicago:20260816T100000
DTEND;TZID=America/Chicago:20260816T160000
DTSTAMP:20260423T001301
CREATED:20260316T170203Z
LAST-MODIFIED:20260316T170204Z
UID:10005383-1786874400-1786896000@northerngardener.org
SUMMARY:Garden Club of Minneapolis hosts Annual Flower\, Food & Foto Show
DESCRIPTION:The Garden Club of Minneapolis extends an invitation to all interested people to participate in its annual Flower\, Food & Foto Show\, a free and open-to-the-public competition celebrating horticultural and photographic achievements. Whether you are a beginning gardener or an advanced enthusiast\, we welcome you to enter your best flowers\, vegetables\, floral designs\, or photos. You do not need to be a Club member to take part in the competition. \nThis year’s featured flower is marigold\, the featured vegetable is summer squash\, and the floral design theme is “Art\, Color\, & Flowers.” Show entries will be accepted on Saturday\, August 15th\, from 7:30 to 10:15 am\, with judging to follow from 10:45 am to 1:00 pm. Photo entries must be submitted by Friday\, July 31st (full photo contest rules are on our website). \nFor more information\, visit the Garden Club of Minneapolis Flower\, Food & Foto Show page at https://gardenclubmpls.org/flower-food-foto-show/ Links to the 2026 Flower\, Food & Foto Rules and Schedule\, as well as photo contest rules\, can be found towards the bottom of the page.
URL:https://northerngardener.org/event/garden-club-of-minneapolis-hosts-annual-flower-food-foto-show-2/
LOCATION:Bachman’s on Lyndale (Heritage Room)\, 6010 Lyndale Ave S\, Minneapolis\, Minnesota\, 55419\, United States
CATEGORIES:Community Event
ATTACH;FMTTYPE=image/jpeg:https://northerngardener.org/wp-content/uploads/2026/03/IMGP0221-scaled.jpeg
END:VEVENT
BEGIN:VEVENT
DTSTART;TZID=America/Chicago:20260614T090000
DTEND;TZID=America/Chicago:20260614T143000
DTSTAMP:20260423T001301
CREATED:20260420T202418Z
LAST-MODIFIED:20260420T202418Z
UID:10005444-1781427600-1781447400@northerngardener.org
SUMMARY:Daylily Society of Minnesota Daylily Sale
DESCRIPTION:There are over 100\,000 registered/named daylilies today!  We won’t have all of them but we will have a large variety of daylilies for you to choose from.  We sell them freshly dug and washed (bareroot) so they are ready for you to take home and plant.  These cultivars are well behaved clumping varieties and do not run like the orange kwanzo variety (we do have some well behaved clumping orange ones however).  Many colors and traits (colored edges\, eyes\, rippled edges\, etc.).  Something for everyone at great prices and members to answer your questions. \nEvent held at Bachman’s in the Heritage Room\, 6010 Lyndale Ave. S.\, Minneapolis\, MN \nCash/check/credit accepted. \nThe Daylily Society is a 501c3 organization.
URL:https://northerngardener.org/event/daylily-society-of-minnesota-daylily-sale/
LOCATION:Bachman’s on Lyndale (Heritage Room)\, 6010 Lyndale Ave S\, Minneapolis\, Minnesota\, 55419\, United States
CATEGORIES:Community Event
ATTACH;FMTTYPE=image/jpeg:https://northerngardener.org/wp-content/uploads/2026/04/dsm_sale_ppt_sign.jpg
ORGANIZER;CN="Daylily Society of Minnesota":MAILTO:dmbryant02@comcast.net
END:VEVENT
END:VCALENDAR