BEGIN:VCALENDAR
VERSION:2.0
PRODID:-//Northern Gardener - ECPv6.15.20//NONSGML v1.0//EN
CALSCALE:GREGORIAN
METHOD:PUBLISH
X-ORIGINAL-URL:https://northerngardener.org
X-WR-CALDESC:Events for Northern Gardener
REFRESH-INTERVAL;VALUE=DURATION:PT1H
X-Robots-Tag:noindex
X-PUBLISHED-TTL:PT1H
BEGIN:VTIMEZONE
TZID:America/Chicago
BEGIN:DAYLIGHT
TZOFFSETFROM:-0600
TZOFFSETTO:-0500
TZNAME:CDT
DTSTART:20250309T080000
END:DAYLIGHT
BEGIN:STANDARD
TZOFFSETFROM:-0500
TZOFFSETTO:-0600
TZNAME:CST
DTSTART:20251102T070000
END:STANDARD
BEGIN:DAYLIGHT
TZOFFSETFROM:-0600
TZOFFSETTO:-0500
TZNAME:CDT
DTSTART:20260308T080000
END:DAYLIGHT
BEGIN:STANDARD
TZOFFSETFROM:-0500
TZOFFSETTO:-0600
TZNAME:CST
DTSTART:20261101T070000
END:STANDARD
BEGIN:DAYLIGHT
TZOFFSETFROM:-0600
TZOFFSETTO:-0500
TZNAME:CDT
DTSTART:20270314T080000
END:DAYLIGHT
BEGIN:STANDARD
TZOFFSETFROM:-0500
TZOFFSETTO:-0600
TZNAME:CST
DTSTART:20271107T070000
END:STANDARD
END:VTIMEZONE
BEGIN:VEVENT
DTSTART;TZID=America/Chicago:20260516T100000
DTEND;TZID=America/Chicago:20260516T190000
DTSTAMP:20260422T213654
CREATED:20251216T153539Z
LAST-MODIFIED:20251216T153540Z
UID:10005238-1778925600-1778958000@northerngardener.org
SUMMARY:Lakeville Area Garden Club Plant Sale
DESCRIPTION:Come and enjoy the fun of shopping from a selection of over 1000 plants! Perennials are dug from our club member’s gardens\, washed to bare roots\, and then planted in sterile pots using purchased potting soil. In addition\, we will have a large selection of annual\, vegetable\, herb\, and perennial seedlings started by our members. Propagated or divided house plants will be available too. Typical prices range for plants and extras range from $1-$10. Hope to see you there! \n 
URL:https://northerngardener.org/event/lakeville-area-garden-club-plant-sale-2/
LOCATION:Antlers Park\, 20141 Ipava Avenue\, Lakeville\, MN\, 55044\, United States
CATEGORIES:Community Event
ATTACH;FMTTYPE=image/png:https://northerngardener.org/wp-content/uploads/2025/12/1000011012.png
ORGANIZER;CN="Lakeville Area Garden Club":MAILTO:lagcmn.programs@gmail.com
END:VEVENT
END:VCALENDAR