BEGIN:VCALENDAR
VERSION:2.0
PRODID:-//Northern Gardener - ECPv6.15.20//NONSGML v1.0//EN
CALSCALE:GREGORIAN
METHOD:PUBLISH
X-WR-CALNAME:Northern Gardener
X-ORIGINAL-URL:https://northerngardener.org
X-WR-CALDESC:Events for Northern Gardener
REFRESH-INTERVAL;VALUE=DURATION:PT1H
X-Robots-Tag:noindex
X-PUBLISHED-TTL:PT1H
BEGIN:VTIMEZONE
TZID:America/Chicago
BEGIN:DAYLIGHT
TZOFFSETFROM:-0600
TZOFFSETTO:-0500
TZNAME:CDT
DTSTART:20250309T080000
END:DAYLIGHT
BEGIN:STANDARD
TZOFFSETFROM:-0500
TZOFFSETTO:-0600
TZNAME:CST
DTSTART:20251102T070000
END:STANDARD
BEGIN:DAYLIGHT
TZOFFSETFROM:-0600
TZOFFSETTO:-0500
TZNAME:CDT
DTSTART:20260308T080000
END:DAYLIGHT
BEGIN:STANDARD
TZOFFSETFROM:-0500
TZOFFSETTO:-0600
TZNAME:CST
DTSTART:20261101T070000
END:STANDARD
BEGIN:DAYLIGHT
TZOFFSETFROM:-0600
TZOFFSETTO:-0500
TZNAME:CDT
DTSTART:20270314T080000
END:DAYLIGHT
BEGIN:STANDARD
TZOFFSETFROM:-0500
TZOFFSETTO:-0600
TZNAME:CST
DTSTART:20271107T070000
END:STANDARD
END:VTIMEZONE
BEGIN:VEVENT
DTSTART;TZID=America/Chicago:20260514T190000
DTEND;TZID=America/Chicago:20260514T200000
DTSTAMP:20260422T162209
CREATED:20260420T202446Z
LAST-MODIFIED:20260420T202446Z
UID:10005447-1778785200-1778788800@northerngardener.org
SUMMARY:Heather Holm presents Oaks\, Fire\, and Climate Change
DESCRIPTION:Natural landscapes in the US and Canada have been drastically altered by human activities such as infrastructure development\, logging\, overgrazing\, the introduction of invasive species\, and fire suppression.  \nWith the current threat of climate change\, it is crucial to understand the past and present ecological conditions of these landscapes to inform future restoration efforts. \nThe presentation will examine the past to understand grassland systems at the time of Euro-American settlement and discuss how Native Americans managed and influenced their composition through regular use of fire. \nHeather will address today’s ecological conditions\, focusing on oak ecosystems and grasslands\, then paint a picture of what a functional\, biodiverse\, and resilient landscape may look like in the future and what actions are needed to achieve these outcomes. \nFollow Heather online: \nFacebook: PollinatorsNativePlants \nInstagram: beesnativeplants \nYouTube: @NativeBeesWasps \nPhotography Website: www.pollinatorphotos.com \niNaturalist: https://www.inaturalist.org/people/723565 \nHeather Holm is a pollinator conservationist and award-winning author of four books: Pollinators of Native Plants (2014)\, Bees (2017)\, Wasps (2021)\, and Common Native Bees of the Eastern United States (2022). Both Bees and Wasps have won multiple book awards\, including the American Horticultural Society Book Award (2018 and 2022\, respectively). She is the founder and chair of Minnesota Native Bees\, an online field guide illustrating the native bees of Minnesota and beyond. \nIf you attend in person\, social time is 6:45-7pm\, and you’re welcome to bring any of Heather’s books you own for her to sign after the presentation. \nIf you attend via Zoom\, the link will be provided on our website closer to the event.
URL:https://northerngardener.org/event/heather-holm-presents-oaks-fire-and-climate-change/
LOCATION:Eden Prairie Community Center\, Cambria Room\, 16700 Valley View Rd.\, Eden Prairie\, 55346
CATEGORIES:Community Event
ATTACH;FMTTYPE=image/jpeg:https://northerngardener.org/wp-content/uploads/2026/04/WOPE-PUBLICITY-HEATHER-HOLM-PHOTO.001.jpeg
ORGANIZER;CN="Wild Ones Prairie Edge Chapter":MAILTO:wildonesprairieedge@gmail.com
END:VEVENT
END:VCALENDAR