BEGIN:VCALENDAR
VERSION:2.0
PRODID:-//Northern Gardener - ECPv6.15.20//NONSGML v1.0//EN
CALSCALE:GREGORIAN
METHOD:PUBLISH
X-WR-CALNAME:Northern Gardener
X-ORIGINAL-URL:https://northerngardener.org
X-WR-CALDESC:Events for Northern Gardener
REFRESH-INTERVAL;VALUE=DURATION:PT1H
X-Robots-Tag:noindex
X-PUBLISHED-TTL:PT1H
BEGIN:VTIMEZONE
TZID:America/Chicago
BEGIN:DAYLIGHT
TZOFFSETFROM:-0600
TZOFFSETTO:-0500
TZNAME:CDT
DTSTART:20250309T080000
END:DAYLIGHT
BEGIN:STANDARD
TZOFFSETFROM:-0500
TZOFFSETTO:-0600
TZNAME:CST
DTSTART:20251102T070000
END:STANDARD
BEGIN:DAYLIGHT
TZOFFSETFROM:-0600
TZOFFSETTO:-0500
TZNAME:CDT
DTSTART:20260308T080000
END:DAYLIGHT
BEGIN:STANDARD
TZOFFSETFROM:-0500
TZOFFSETTO:-0600
TZNAME:CST
DTSTART:20261101T070000
END:STANDARD
BEGIN:DAYLIGHT
TZOFFSETFROM:-0600
TZOFFSETTO:-0500
TZNAME:CDT
DTSTART:20270314T080000
END:DAYLIGHT
BEGIN:STANDARD
TZOFFSETFROM:-0500
TZOFFSETTO:-0600
TZNAME:CST
DTSTART:20271107T070000
END:STANDARD
END:VTIMEZONE
BEGIN:VEVENT
DTSTART;TZID=America/Chicago:20260401T190000
DTEND;TZID=America/Chicago:20260401T203000
DTSTAMP:20260422T175321
CREATED:20260304T180511Z
LAST-MODIFIED:20260324T151230Z
UID:10005364-1775070000-1775075400@northerngardener.org
SUMMARY:Stan Tekiela Presents Wildflowers: Nature’s Stunning Beauty in Full Bloom
DESCRIPTION:We encourage you to attend in person\, but there will be a Zoom option. The link will be on the Wild Ones Prairie Edge website closer to the event. \nWildflowers color our lives. Stan will present the fascinating world of wildflowers in a fun and engaging way that only Stan can deliver. Learn why we have wildflowers and what they do. \nFree drawing:  one of Stan’s books\, your choice\, will be given to two winners. \nIf you own books by Stan\, you are welcome to bring them for signing at 6:45. \nVisit Stan’s website Nature Smart naturesmart.com to find tours\, blogs\, wildlife images\, and more. Stan is a well-known columnist and radio personality whose syndicated column appears in over 20 newspapers; his wildlife programs are broadcast on a number of Midwest radio stations. Stan has authored more than 200 field guides\, nature appreciation books and wildlife audio CDs for nearly every state in the nation\, presenting many species of birds\, mammals\, reptiles and amphibians\, trees\, wildflowers and cacti.
URL:https://northerngardener.org/event/stan-tekiela-presents-wildflowers-natures-stunning-beauty-in-full-bloom/
LOCATION:Minnetonka Community Center\, 14600 Minnetonka Blvd\, Minnetonka\, 55345
CATEGORIES:Community Event
ATTACH;FMTTYPE=image/jpeg:https://northerngardener.org/wp-content/uploads/2026/03/WOPE-PRESENTATION-STAN-TEKIELA-PHOTO-4.1.26.001.jpeg
ORGANIZER;CN="Wild Ones Prairie Edge Chapter":MAILTO:wildonesprairieedge@gmail.com
END:VEVENT
END:VCALENDAR