BEGIN:VCALENDAR
VERSION:2.0
PRODID:-//Northern Gardener - ECPv6.15.20//NONSGML v1.0//EN
CALSCALE:GREGORIAN
METHOD:PUBLISH
X-ORIGINAL-URL:https://northerngardener.org
X-WR-CALDESC:Events for Northern Gardener
REFRESH-INTERVAL;VALUE=DURATION:PT1H
X-Robots-Tag:noindex
X-PUBLISHED-TTL:PT1H
BEGIN:VTIMEZONE
TZID:America/Chicago
BEGIN:DAYLIGHT
TZOFFSETFROM:-0600
TZOFFSETTO:-0500
TZNAME:CDT
DTSTART:20250309T080000
END:DAYLIGHT
BEGIN:STANDARD
TZOFFSETFROM:-0500
TZOFFSETTO:-0600
TZNAME:CST
DTSTART:20251102T070000
END:STANDARD
BEGIN:DAYLIGHT
TZOFFSETFROM:-0600
TZOFFSETTO:-0500
TZNAME:CDT
DTSTART:20260308T080000
END:DAYLIGHT
BEGIN:STANDARD
TZOFFSETFROM:-0500
TZOFFSETTO:-0600
TZNAME:CST
DTSTART:20261101T070000
END:STANDARD
BEGIN:DAYLIGHT
TZOFFSETFROM:-0600
TZOFFSETTO:-0500
TZNAME:CDT
DTSTART:20270314T080000
END:DAYLIGHT
BEGIN:STANDARD
TZOFFSETFROM:-0500
TZOFFSETTO:-0600
TZNAME:CST
DTSTART:20271107T070000
END:STANDARD
END:VTIMEZONE
BEGIN:VEVENT
DTSTART;TZID=America/Chicago:20260523T100000
DTEND;TZID=America/Chicago:20260524T160000
DTSTAMP:20260422T134824
CREATED:20260330T154122Z
LAST-MODIFIED:20260330T154123Z
UID:10005397-1779530400-1779638400@northerngardener.org
SUMMARY:May Markets & Music
DESCRIPTION:Soak up spring at the beautiful Minnesota Landscape Arboretum while shopping from up to 60 local artists and artisans select weekends in May. Enjoy live music and food and beverage for purchase as you check out your favorite makers from past years and discover new ones. Markets will be in the Scarecrow Hill area and will be open rain or shine. Reserve your gate admission on the website! \n 
URL:https://northerngardener.org/event/may-markets-music-5/
LOCATION:University of Minnesota Landscape Arboretum\, 3675 Arboretum Dr\, Chaska\, MN\, 55318\, United States
CATEGORIES:Community Event
ATTACH;FMTTYPE=image/png:https://northerngardener.org/wp-content/uploads/2026/03/image-26-1.png
ORGANIZER;CN="University of Minnesota Landscape Arboretum":MAILTO:arbinfo@umn.edu
END:VEVENT
BEGIN:VEVENT
DTSTART;TZID=America/Chicago:20260530T100000
DTEND;TZID=America/Chicago:20260531T160000
DTSTAMP:20260422T134824
CREATED:20260330T154134Z
LAST-MODIFIED:20260330T154135Z
UID:10005398-1780135200-1780243200@northerngardener.org
SUMMARY:May Markets & Music
DESCRIPTION:Soak up spring at the beautiful Minnesota Landscape Arboretum while shopping from up to 60 local artists and artisans select weekends in May. Enjoy live music and food and beverage for purchase as you check out your favorite makers from past years and discover new ones. Markets will be in the Scarecrow Hill area and will be open rain or shine. Reserve your gate admission on the website! \n 
URL:https://northerngardener.org/event/may-markets-music-6/
LOCATION:University of Minnesota Landscape Arboretum\, 3675 Arboretum Dr\, Chaska\, MN\, 55318\, United States
CATEGORIES:Community Event
ATTACH;FMTTYPE=image/png:https://northerngardener.org/wp-content/uploads/2026/03/image-26-2.png
ORGANIZER;CN="University of Minnesota Landscape Arboretum":MAILTO:arbinfo@umn.edu
END:VEVENT
BEGIN:VEVENT
DTSTART;TZID=America/Chicago:20260508T083000
DTEND;TZID=America/Chicago:20260508T103000
DTSTAMP:20260422T134824
CREATED:20260330T154156Z
LAST-MODIFIED:20260330T154157Z
UID:10005400-1778229000-1778236200@northerngardener.org
SUMMARY:Forest Bathing
DESCRIPTION:Enjoy the tranquility and well-being of Shinrin-yoku (translation: ‘Forest Bathing’)\, a Japanese mindfulness practice that invites nature to be your healer. Practice learning through guided awareness. Discover how the process can awaken your senses and calm your mind. Leave feeling refreshed and encouraged to continue your Shinrin-yoku practice. See select dates through September and visit the website for tickets and complete details. \n\n\n 
URL:https://northerngardener.org/event/forest-bathing-3/
LOCATION:University of Minnesota Landscape Arboretum\, 3675 Arboretum Dr\, Chaska\, MN\, 55318\, United States
CATEGORIES:Community Event
ATTACH;FMTTYPE=image/png:https://northerngardener.org/wp-content/uploads/2026/03/image-27-1.png
ORGANIZER;CN="University of Minnesota Landscape Arboretum":MAILTO:arbinfo@umn.edu
END:VEVENT
BEGIN:VEVENT
DTSTART;TZID=America/Chicago:20260529T083000
DTEND;TZID=America/Chicago:20260529T103000
DTSTAMP:20260422T134824
CREATED:20260330T154206Z
LAST-MODIFIED:20260330T154207Z
UID:10005401-1780043400-1780050600@northerngardener.org
SUMMARY:Forest Bathing
DESCRIPTION:Enjoy the tranquility and well-being of Shinrin-yoku (translation: ‘Forest Bathing’)\, a Japanese mindfulness practice that invites nature to be your healer. Practice learning through guided awareness. Discover how the process can awaken your senses and calm your mind. Leave feeling refreshed and encouraged to continue your Shinrin-yoku practice. See select dates through September and visit the website for tickets and complete details. \n\n\n 
URL:https://northerngardener.org/event/forest-bathing-4/
LOCATION:University of Minnesota Landscape Arboretum\, 3675 Arboretum Dr\, Chaska\, MN\, 55318\, United States
CATEGORIES:Community Event
ATTACH;FMTTYPE=image/png:https://northerngardener.org/wp-content/uploads/2026/03/image-27-2.png
ORGANIZER;CN="University of Minnesota Landscape Arboretum":MAILTO:arbinfo@umn.edu
END:VEVENT
BEGIN:VEVENT
DTSTART;TZID=America/Chicago:20260612T090000
DTEND;TZID=America/Chicago:20260612T110000
DTSTAMP:20260422T134824
CREATED:20260330T154229Z
LAST-MODIFIED:20260330T154229Z
UID:10005402-1781254800-1781262000@northerngardener.org
SUMMARY:Forest Bathing
DESCRIPTION:Enjoy the tranquility and well-being of Shinrin-yoku (translation: ‘Forest Bathing’)\, a Japanese mindfulness practice that invites nature to be your healer. Practice learning through guided awareness. Discover how the process can awaken your senses and calm your mind. Leave feeling refreshed and encouraged to continue your Shinrin-yoku practice. See select dates through September and visit the website for tickets and complete details. \n\n\n 
URL:https://northerngardener.org/event/forest-bathing-5/
LOCATION:University of Minnesota Landscape Arboretum\, 3675 Arboretum Dr\, Chaska\, MN\, 55318\, United States
CATEGORIES:Community Event
ATTACH;FMTTYPE=image/png:https://northerngardener.org/wp-content/uploads/2026/03/image-27-3.png
ORGANIZER;CN="University of Minnesota Landscape Arboretum":MAILTO:arbinfo@umn.edu
END:VEVENT
BEGIN:VEVENT
DTSTART;TZID=America/Chicago:20260827T180000
DTEND;TZID=America/Chicago:20260827T200000
DTSTAMP:20260422T134824
CREATED:20260330T154339Z
LAST-MODIFIED:20260330T154339Z
UID:10005417-1787853600-1787860800@northerngardener.org
SUMMARY:Forest Bathing
DESCRIPTION:Enjoy the tranquility and well-being of Shinrin-yoku (translation: ‘Forest Bathing’)\, a Japanese mindfulness practice that invites nature to be your healer. Practice learning through guided awareness. Discover how the process can awaken your senses and calm your mind. Leave feeling refreshed and encouraged to continue your Shinrin-yoku practice. See select dates through September and visit the website for tickets and complete details.
URL:https://northerngardener.org/event/forest-bathing-6/
LOCATION:University of Minnesota Landscape Arboretum\, 3675 Arboretum Dr\, Chaska\, MN\, 55318\, United States
CATEGORIES:Community Event
ATTACH;FMTTYPE=image/png:https://northerngardener.org/wp-content/uploads/2026/03/image-27-8.png
ORGANIZER;CN="University of Minnesota Landscape Arboretum":MAILTO:arbinfo@umn.edu
END:VEVENT
BEGIN:VEVENT
DTSTART;TZID=America/Chicago:20260710T090000
DTEND;TZID=America/Chicago:20260710T110000
DTSTAMP:20260422T134824
CREATED:20260330T154513Z
LAST-MODIFIED:20260330T154514Z
UID:10005414-1783674000-1783681200@northerngardener.org
SUMMARY:Forest Bathing
DESCRIPTION:Enjoy the tranquility and well-being of Shinrin-yoku (translation: ‘Forest Bathing’)\, a Japanese mindfulness practice that invites nature to be your healer. Practice learning through guided awareness. Discover how the process can awaken your senses and calm your mind. Leave feeling refreshed and encouraged to continue your Shinrin-yoku practice. See select dates through September and visit the website for tickets and complete details. \n 
URL:https://northerngardener.org/event/forest-bathing-7/
LOCATION:University of Minnesota Landscape Arboretum\, 3675 Arboretum Dr\, Chaska\, MN\, 55318\, United States
CATEGORIES:Community Event
ATTACH;FMTTYPE=image/png:https://northerngardener.org/wp-content/uploads/2026/03/image-27-5.png
ORGANIZER;CN="University of Minnesota Landscape Arboretum":MAILTO:arbinfo@umn.edu
END:VEVENT
BEGIN:VEVENT
DTSTART;TZID=America/Chicago:20260730T180000
DTEND;TZID=America/Chicago:20260730T200000
DTSTAMP:20260422T134824
CREATED:20260330T154523Z
LAST-MODIFIED:20260330T154524Z
UID:10005415-1785434400-1785441600@northerngardener.org
SUMMARY:Forest Bathing
DESCRIPTION:Enjoy the tranquility and well-being of Shinrin-yoku (translation: ‘Forest Bathing’)\, a Japanese mindfulness practice that invites nature to be your healer. Practice learning through guided awareness. Discover how the process can awaken your senses and calm your mind. Leave feeling refreshed and encouraged to continue your Shinrin-yoku practice. See select dates through September and visit the website for tickets and complete details. \n 
URL:https://northerngardener.org/event/forest-bathing-8/
LOCATION:University of Minnesota Landscape Arboretum\, 3675 Arboretum Dr\, Chaska\, MN\, 55318\, United States
CATEGORIES:Community Event
ATTACH;FMTTYPE=image/png:https://northerngardener.org/wp-content/uploads/2026/03/image-27-6.png
ORGANIZER;CN="University of Minnesota Landscape Arboretum":MAILTO:arbinfo@umn.edu
END:VEVENT
BEGIN:VEVENT
DTSTART;TZID=America/Chicago:20260814T090000
DTEND;TZID=America/Chicago:20260814T110000
DTSTAMP:20260422T134824
CREATED:20260330T154532Z
LAST-MODIFIED:20260330T154532Z
UID:10005416-1786698000-1786705200@northerngardener.org
SUMMARY:Forest Bathing
DESCRIPTION:Enjoy the tranquility and well-being of Shinrin-yoku (translation: ‘Forest Bathing’)\, a Japanese mindfulness practice that invites nature to be your healer. Practice learning through guided awareness. Discover how the process can awaken your senses and calm your mind. Leave feeling refreshed and encouraged to continue your Shinrin-yoku practice. See select dates through September and visit the website for tickets and complete details. \n 
URL:https://northerngardener.org/event/forest-bathing-9/
LOCATION:University of Minnesota Landscape Arboretum\, 3675 Arboretum Dr\, Chaska\, MN\, 55318\, United States
CATEGORIES:Community Event
ATTACH;FMTTYPE=image/png:https://northerngardener.org/wp-content/uploads/2026/03/image-27-7.png
ORGANIZER;CN="University of Minnesota Landscape Arboretum":MAILTO:arbinfo@umn.edu
END:VEVENT
BEGIN:VEVENT
DTSTART;TZID=America/Chicago:20260925T090000
DTEND;TZID=America/Chicago:20260925T110000
DTSTAMP:20260422T134824
CREATED:20260330T154606Z
LAST-MODIFIED:20260330T154606Z
UID:10005419-1790326800-1790334000@northerngardener.org
SUMMARY:Forest Bathing
DESCRIPTION:Enjoy the tranquility and well-being of Shinrin-yoku (translation: ‘Forest Bathing’)\, a Japanese mindfulness practice that invites nature to be your healer. Practice learning through guided awareness. Discover how the process can awaken your senses and calm your mind. Leave feeling refreshed and encouraged to continue your Shinrin-yoku practice. See select dates through September and visit the website for tickets and complete details.
URL:https://northerngardener.org/event/forest-bathing-10/
LOCATION:University of Minnesota Landscape Arboretum\, 3675 Arboretum Dr\, Chaska\, MN\, 55318\, United States
CATEGORIES:Community Event
ATTACH;FMTTYPE=image/png:https://northerngardener.org/wp-content/uploads/2026/03/image-27-10.png
ORGANIZER;CN="University of Minnesota Landscape Arboretum":MAILTO:arbinfo@umn.edu
END:VEVENT
BEGIN:VEVENT
DTSTART;TZID=America/Chicago:20260911T090000
DTEND;TZID=America/Chicago:20260911T110000
DTSTAMP:20260422T134824
CREATED:20260330T154614Z
LAST-MODIFIED:20260330T154614Z
UID:10005418-1789117200-1789124400@northerngardener.org
SUMMARY:Forest Bathing
DESCRIPTION:Enjoy the tranquility and well-being of Shinrin-yoku (translation: ‘Forest Bathing’)\, a Japanese mindfulness practice that invites nature to be your healer. Practice learning through guided awareness. Discover how the process can awaken your senses and calm your mind. Leave feeling refreshed and encouraged to continue your Shinrin-yoku practice. See select dates through September and visit the website for tickets and complete details. \n 
URL:https://northerngardener.org/event/forest-bathing-11/
LOCATION:University of Minnesota Landscape Arboretum\, 3675 Arboretum Dr\, Chaska\, MN\, 55318\, United States
CATEGORIES:Community Event
ATTACH;FMTTYPE=image/png:https://northerngardener.org/wp-content/uploads/2026/03/image-27-9.png
ORGANIZER;CN="University of Minnesota Landscape Arboretum":MAILTO:arbinfo@umn.edu
END:VEVENT
BEGIN:VEVENT
DTSTART;TZID=America/Chicago:20260607T133000
DTEND;TZID=America/Chicago:20261025T150000
DTSTAMP:20260422T134824
CREATED:20260406T160229Z
LAST-MODIFIED:20260406T160230Z
UID:10005421-1780839000-1792940400@northerngardener.org
SUMMARY:Music in the Garden
DESCRIPTION:Enjoy live music throughout the summer! This year\, we welcome new and returning artists to our series\, which occurs June through October. Join us every Sunday afternoon from 1:30 to 3 p.m. Music genres will include blues\, folk\, brass quintets\, and orchestra. There’s something for everyone. Rootstock Cafe will be open with food\, beer and wine available as well as the Rootstock Ice Cream Cart (weather permitting). The series is included with your general daily admission to the Arboretum\, please reserve your admission on the website. \n 
URL:https://northerngardener.org/event/music-in-the-garden/
LOCATION:University of Minnesota Landscape Arboretum\, 3675 Arboretum Dr\, Chaska\, MN\, 55318\, United States
CATEGORIES:Community Event
ATTACH;FMTTYPE=image/png:https://northerngardener.org/wp-content/uploads/2026/03/image-28.png
ORGANIZER;CN="University of Minnesota Landscape Arboretum":MAILTO:arbinfo@umn.edu
END:VEVENT
BEGIN:VEVENT
DTSTART;TZID=America/Chicago:20260705T133000
DTEND;TZID=America/Chicago:20261025T150000
DTSTAMP:20260422T134824
CREATED:20260406T160244Z
LAST-MODIFIED:20260406T160245Z
UID:10005422-1783258200-1792940400@northerngardener.org
SUMMARY:Music in the Garden
DESCRIPTION:Enjoy live music throughout the summer! This year\, we welcome new and returning artists to our series\, which occurs June through October. Join us every Sunday afternoon from 1:30 to 3 p.m. Music genres will include blues\, folk\, brass quintets\, and orchestra. There’s something for everyone. Rootstock Cafe will be open with food\, beer and wine available as well as the Rootstock Ice Cream Cart (weather permitting). The series is included with your general daily admission to the Arboretum\, please reserve your admission on the website. \n 
URL:https://northerngardener.org/event/music-in-the-garden-2/
LOCATION:University of Minnesota Landscape Arboretum\, 3675 Arboretum Dr\, Chaska\, MN\, 55318\, United States
CATEGORIES:Community Event
ATTACH;FMTTYPE=image/png:https://northerngardener.org/wp-content/uploads/2026/03/image-28-1.png
ORGANIZER;CN="University of Minnesota Landscape Arboretum":MAILTO:arbinfo@umn.edu
END:VEVENT
BEGIN:VEVENT
DTSTART;TZID=America/Chicago:20260802T133000
DTEND;TZID=America/Chicago:20261025T150000
DTSTAMP:20260422T134824
CREATED:20260406T160259Z
LAST-MODIFIED:20260406T160300Z
UID:10005423-1785677400-1792940400@northerngardener.org
SUMMARY:Music in the Garden
DESCRIPTION:Enjoy live music throughout the summer! This year\, we welcome new and returning artists to our series\, which occurs June through October. Join us every Sunday afternoon from 1:30 to 3 p.m. Music genres will include blues\, folk\, brass quintets\, and orchestra. There’s something for everyone. Rootstock Cafe will be open with food\, beer and wine available as well as the Rootstock Ice Cream Cart (weather permitting). The series is included with your general daily admission to the Arboretum\, please reserve your admission on the website. \n 
URL:https://northerngardener.org/event/music-in-the-garden-3/
LOCATION:University of Minnesota Landscape Arboretum\, 3675 Arboretum Dr\, Chaska\, MN\, 55318\, United States
CATEGORIES:Community Event
ATTACH;FMTTYPE=image/png:https://northerngardener.org/wp-content/uploads/2026/03/image-28-2.png
ORGANIZER;CN="University of Minnesota Landscape Arboretum":MAILTO:arbinfo@umn.edu
END:VEVENT
BEGIN:VEVENT
DTSTART;TZID=America/Chicago:20260906T133000
DTEND;TZID=America/Chicago:20261025T150000
DTSTAMP:20260422T134824
CREATED:20260406T160349Z
LAST-MODIFIED:20260406T160350Z
UID:10005424-1788701400-1792940400@northerngardener.org
SUMMARY:Music in the Garden
DESCRIPTION:Enjoy live music throughout the summer! This year\, we welcome new and returning artists to our series\, which occurs June through October. Join us every Sunday afternoon from 1:30 to 3 p.m. Music genres will include blues\, folk\, brass quintets\, and orchestra. There’s something for everyone. Rootstock Cafe will be open with food\, beer and wine available as well as the Rootstock Ice Cream Cart (weather permitting). The series is included with your general daily admission to the Arboretum\, please reserve your admission on the website. \n 
URL:https://northerngardener.org/event/music-in-the-garden-4/
LOCATION:University of Minnesota Landscape Arboretum\, 3675 Arboretum Dr\, Chaska\, MN\, 55318\, United States
CATEGORIES:Community Event
ATTACH;FMTTYPE=image/png:https://northerngardener.org/wp-content/uploads/2026/03/image-28-3.png
ORGANIZER;CN="University of Minnesota Landscape Arboretum":MAILTO:arbinfo@umn.edu
END:VEVENT
BEGIN:VEVENT
DTSTART;TZID=America/Chicago:20261004T133000
DTEND;TZID=America/Chicago:20261025T150000
DTSTAMP:20260422T134824
CREATED:20260406T160413Z
LAST-MODIFIED:20260406T160413Z
UID:10005425-1791120600-1792940400@northerngardener.org
SUMMARY:Music in the Garden
DESCRIPTION:Enjoy live music throughout the summer! This year\, we welcome new and returning artists to our series\, which occurs June through October. Join us every Sunday afternoon from 1:30 to 3 p.m. Music genres will include blues\, folk\, brass quintets\, and orchestra. There’s something for everyone. Rootstock Cafe will be open with food\, beer and wine available as well as the Rootstock Ice Cream Cart (weather permitting). The series is included with your general daily admission to the Arboretum\, please reserve your admission on the website. \n 
URL:https://northerngardener.org/event/music-in-the-garden-5/
LOCATION:University of Minnesota Landscape Arboretum\, 3675 Arboretum Dr\, Chaska\, MN\, 55318\, United States
CATEGORIES:Community Event
ATTACH;FMTTYPE=image/png:https://northerngardener.org/wp-content/uploads/2026/03/image-28-4.png
ORGANIZER;CN="University of Minnesota Landscape Arboretum":MAILTO:arbinfo@umn.edu
END:VEVENT
BEGIN:VEVENT
DTSTART;TZID=America/Chicago:20260501T080000
DTEND;TZID=America/Chicago:20261031T190000
DTSTAMP:20260422T134824
CREATED:20260413T155810Z
LAST-MODIFIED:20260413T155810Z
UID:10005426-1777622400-1793473200@northerngardener.org
SUMMARY:Dakota Sacred Hoop Walk
DESCRIPTION:Twin Cities Digital Artist Marlena Myles\, a member of the Spirit Lake Dakota tribe\, presents an augmented reality art exhibition at the Arboretum\, which begins in the Harrison Sculpture Garden. Visitors use their cell phones to download the Revelo AR App to view digital images and audio at stops along the walk which honors\, educates and connects visitors to Dakota history\, culture and significance of the land through art and storytelling. Fun for the entire family. Please reserve gate admission on the website.
URL:https://northerngardener.org/event/dakota-sacred-hoop-walk/
LOCATION:University of Minnesota Landscape Arboretum\, 3675 Arboretum Dr\, Chaska\, MN\, 55318\, United States
CATEGORIES:Community Event
ATTACH;FMTTYPE=image/png:https://northerngardener.org/wp-content/uploads/2026/04/image-29.png
ORGANIZER;CN="University of Minnesota Landscape Arboretum":MAILTO:arbinfo@umn.edu
END:VEVENT
BEGIN:VEVENT
DTSTART;TZID=America/Chicago:20260507T090000
DTEND;TZID=America/Chicago:20260616T180000
DTSTAMP:20260422T134824
CREATED:20260413T160217Z
LAST-MODIFIED:20260413T160218Z
UID:10005434-1778144400-1781632800@northerngardener.org
SUMMARY:Art: Toward the Trees
DESCRIPTION:Walk toward the trees! Take in Mary Pat Maracle’s textured photo encaustics of detailed broadleaves and Kristen Palm’s vivid\, representational abstract trees and landscapes. Step back to experience Palm’s bold colors and shapes that evoke our tall sylvan relatives in acrylic\, then step closer to observe the blankets of palpable wax\, layered intricately by Maracle. Though both artists depict trees in different ways – sometimes playful and loud\, other times ghostly with an underlying structure of branches and twigs – each style of work celebrates their own connection to the trees that surround us. And visit the website to reserve your admission.
URL:https://northerngardener.org/event/art-toward-the-trees/
LOCATION:University of Minnesota Landscape Arboretum\, 3675 Arboretum Dr\, Chaska\, MN\, 55318\, United States
CATEGORIES:Community Event
ATTACH;FMTTYPE=image/png:https://northerngardener.org/wp-content/uploads/2026/04/image-30.png
ORGANIZER;CN="University of Minnesota Landscape Arboretum":MAILTO:arbinfo@umn.edu
END:VEVENT
BEGIN:VEVENT
DTSTART;TZID=America/Chicago:20260510T110000
DTEND;TZID=America/Chicago:20260510T140000
DTSTAMP:20260422T134824
CREATED:20260420T202323Z
LAST-MODIFIED:20260420T202324Z
UID:10005435-1778410800-1778421600@northerngardener.org
SUMMARY:Mother's Day Picnic Lunch
DESCRIPTION:Treat mom to a day without cooking this Mother’s Day! And what better place to celebrate than the Arboretum! Rootstock will be offering grab-and-go box lunches for advance purchase for Mother’s Day. Reserve a box lunch (deadline May 6) and follow it up with a walk through the Arboretum gardens to see the spring blooms\, including 40\,000 tulips planted throughout the grounds. Visit the website to reserve your lunch and admission.
URL:https://northerngardener.org/event/mothers-day-picnic-lunch/
LOCATION:University of Minnesota Landscape Arboretum\, 3675 Arboretum Dr\, Chaska\, MN\, 55318\, United States
CATEGORIES:Community Event
ATTACH;FMTTYPE=image/png:https://northerngardener.org/wp-content/uploads/2026/04/image-32.png
ORGANIZER;CN="University of Minnesota Landscape Arboretum":MAILTO:arbinfo@umn.edu
END:VEVENT
BEGIN:VEVENT
DTSTART;TZID=America/Chicago:20260520T090000
DTEND;TZID=America/Chicago:20260720T180000
DTSTAMP:20260422T134824
CREATED:20260420T202341Z
LAST-MODIFIED:20260420T202341Z
UID:10005437-1779267600-1784570400@northerngardener.org
SUMMARY:Art: Viewpoint
DESCRIPTION:“Viewpoint” brings together the distinct artistic lenses of Brian Jensen and Mary Meuwissen to explore how we perceive our surroundings. Jensen offers a viewpoint rooted in clarity and memory—his precision-based acrylics on wood capture the iconic beauty of Minnesota’s landscapes and lakes with a storyteller’s eye. In contrast\, Meuwissen offers a viewpoint from within. Her abstract\, luminous layers of oil and wax paintings strip away the literal to reveal the emotional essence of a place. When looking at her pieces\, you witness the joyful shifting of energy in nature.  Please visit the website for ticketing details.
URL:https://northerngardener.org/event/art-viewpoint/
LOCATION:University of Minnesota Landscape Arboretum\, 3675 Arboretum Dr\, Chaska\, MN\, 55318\, United States
CATEGORIES:Community Event
ATTACH;FMTTYPE=image/png:https://northerngardener.org/wp-content/uploads/2026/04/image-31.png
ORGANIZER;CN="University of Minnesota Landscape Arboretum":MAILTO:arbinfo@umn.edu
END:VEVENT
BEGIN:VEVENT
DTSTART;VALUE=DATE:20260619
DTEND;VALUE=DATE:20260820
DTSTAMP:20260422T134824
CREATED:20260420T202348Z
LAST-MODIFIED:20260420T202349Z
UID:10005438-1781827200-1787183999@northerngardener.org
SUMMARY:Art: Radiant Flow
DESCRIPTION:Bringing together three distinct voices\, “Radiant Flow” celebrates the movement between nature\, tradition\, and modern expression. This exhibition explores how light and energy transition across different surfaces. Patty MacHalec’s plein-air style multimedia canvases display a classic depth. The organic\, three-dimensional curves of Kristen Treuting’s gourds are stained with ornamental motifs. Jane Johnson’s contemporary paintings vibrantly capture the fluid\, ever-changing nature of the world around us. Together\, these artists invite you to witness the “flow” that connects the tactile world with the human spirit. Please visit the website for ticketing details.
URL:https://northerngardener.org/event/art-radiant-flow/
LOCATION:University of Minnesota Landscape Arboretum\, 3675 Arboretum Dr\, Chaska\, MN\, 55318\, United States
CATEGORIES:Community Event
ATTACH;FMTTYPE=image/png:https://northerngardener.org/wp-content/uploads/2026/04/image-33.png
ORGANIZER;CN="University of Minnesota Landscape Arboretum":MAILTO:arbinfo@umn.edu
END:VEVENT
BEGIN:VEVENT
DTSTART;VALUE=DATE:20260723
DTEND;VALUE=DATE:20260831
DTSTAMP:20260422T134824
CREATED:20260420T202356Z
LAST-MODIFIED:20260420T202356Z
UID:10005439-1784764800-1788134399@northerngardener.org
SUMMARY:Art: Nature\, Color\, Splash
DESCRIPTION:Each canvas is a “splash”—a moment when artist interpretation meets nature. Each time\, the result is a work of art that challenges the objective view of the environment. This is not nature observed\, but nature felt. Enjoy how these colorful landscapes sing in harmony revealing an energy that invites you to breathe it all in. And meet the artist on July 25\, 2026 in the gallery from 11:30 am to 1:30 pm. Please visit the website for ticketing details.
URL:https://northerngardener.org/event/art-nature-color-splash/
LOCATION:University of Minnesota Landscape Arboretum\, 3675 Arboretum Dr\, Chaska\, MN\, 55318\, United States
CATEGORIES:Community Event
ATTACH;FMTTYPE=image/png:https://northerngardener.org/wp-content/uploads/2026/04/image-34.png
ORGANIZER;CN="University of Minnesota Landscape Arboretum":MAILTO:arbinfo@umn.edu
END:VEVENT
END:VCALENDAR