BEGIN:VCALENDAR
VERSION:2.0
PRODID:-//Northern Gardener - ECPv6.15.20//NONSGML v1.0//EN
CALSCALE:GREGORIAN
METHOD:PUBLISH
X-WR-CALNAME:Northern Gardener
X-ORIGINAL-URL:https://northerngardener.org
X-WR-CALDESC:Events for Northern Gardener
REFRESH-INTERVAL;VALUE=DURATION:PT1H
X-Robots-Tag:noindex
X-PUBLISHED-TTL:PT1H
BEGIN:VTIMEZONE
TZID:America/Chicago
BEGIN:DAYLIGHT
TZOFFSETFROM:-0600
TZOFFSETTO:-0500
TZNAME:CDT
DTSTART:20250309T080000
END:DAYLIGHT
BEGIN:STANDARD
TZOFFSETFROM:-0500
TZOFFSETTO:-0600
TZNAME:CST
DTSTART:20251102T070000
END:STANDARD
BEGIN:DAYLIGHT
TZOFFSETFROM:-0600
TZOFFSETTO:-0500
TZNAME:CDT
DTSTART:20260308T080000
END:DAYLIGHT
BEGIN:STANDARD
TZOFFSETFROM:-0500
TZOFFSETTO:-0600
TZNAME:CST
DTSTART:20261101T070000
END:STANDARD
BEGIN:DAYLIGHT
TZOFFSETFROM:-0600
TZOFFSETTO:-0500
TZNAME:CDT
DTSTART:20270314T080000
END:DAYLIGHT
BEGIN:STANDARD
TZOFFSETFROM:-0500
TZOFFSETTO:-0600
TZNAME:CST
DTSTART:20271107T070000
END:STANDARD
END:VTIMEZONE
BEGIN:VEVENT
DTSTART;TZID=America/Chicago:20260328T173000
DTEND;TZID=America/Chicago:20260328T183000
DTSTAMP:20260425T123403
CREATED:20260327T215410Z
LAST-MODIFIED:20260327T215411Z
UID:10005410-1774719000-1774722600@northerngardener.org
SUMMARY:MFJN Keynote Speaker Livestream
DESCRIPTION:Spend your Saturday night with MFJN and Assistant Commissioner of @mnagriculture \, Patrice Bailey! As someone from Harlem\, New York who did not grow up on a farm but became the 1st BIPOC Assistant Commissioner of Agriculture\, what does that mean for breaking barriers? Tune in to find out! Check link in bio or mfjn.org for livestream access and more.
URL:https://northerngardener.org/event/mfjn-keynote-speaker-livestream/
LOCATION:Online
CATEGORIES:Community Event
END:VEVENT
BEGIN:VEVENT
DTSTART;TZID=America/Chicago:20260327T140000
DTEND;TZID=America/Chicago:20260327T153000
DTSTAMP:20260425T123403
CREATED:20260327T215404Z
LAST-MODIFIED:20260327T215404Z
UID:10005409-1774620000-1774625400@northerngardener.org
SUMMARY:MFJN Framing Panel Livestream
DESCRIPTION:Can’t make it to Duluth? Join us for the livestream of this incredible panel\, Friday @2pm! Hear stories of resilience\, mutual aid\, the future\, and of course… food justice! Check the link in bio or mfjn.org for livestream access and bios
URL:https://northerngardener.org/event/mfjn-framing-panel-livestream/
LOCATION:Online
CATEGORIES:Community Event
END:VEVENT
BEGIN:VEVENT
DTSTART;VALUE=DATE:20260327
DTEND;VALUE=DATE:20260330
DTSTAMP:20260425T123403
CREATED:20251028T205934Z
LAST-MODIFIED:20251028T205934Z
UID:10005194-1774569600-1774828799@northerngardener.org
SUMMARY:Food Justice Summit: Rooted in Culture\, Rising with Resilience: Future-Proofing Food for All
DESCRIPTION:Join food justice folks from across the state for this “non-conference” – the first since 2019!\nThis Action Team is fundraising and starting to shape the details\, so stay tuned for more soon.\n\n\n\n\nRecommend Speakers And More\n\n\n\n\nMFJN invites farmers and urban growers\, youth leaders and educators\, food justice advocates\, researchers\, policy leaders\, cooperatives\, culture artists\, healers\, artists\, etc. to submit proposals for workshops\, storytelling sessions\, and policy conversations at our upcoming Food Justice Summit. \nStay tuned for content proposals! For now\, let us know if you want to recommend yourself or another person to share an offering of words\, art\, etc. \n\n\n\nSubmit your ideas\n\n\n\n\n\n\n\nMake The Summit Possible\n\n\n\n\nWe are looking for businesses\, organizations\, institutions\, and community cooperatives to sponsor this three-day gathering of food justice advocates from across Minnesota. \nThanks to our first sponsors – Friendly Hmong Farms\, Healthy Foods\, Healthy Lives Institute\, and an anonymous donor! \nContact info@mfjn.org for more information. \n\n\n\n\nMake The Summit Accessible\n\n\n\n\nWe have a Solidarity Fund that supports scholarships\, travel\, lodging\, virtual options\, wellness offerings\, cultural exchange\, art\, and more. Pool your funds together with fellow supporters so everyone can gather in an accessible\, meaningful way! \nDonate today and be sure to include “Food Justice Summit Solidarity Fund” in the dedication line. \n\n\n\nDonate\n\n\n\n\n\n\nJoin The Planning Team\n\n\n\n\nYour voice matters! Want to join the planning committee for this event? Contact info@mfjn.org for the link. Virtual meetings are every other Friday at 9am.
URL:https://northerngardener.org/event/food-justice-summit-rooted-in-culture-rising-with-resilience-future-proofing-food-for-all/2026-03-27/1/
LOCATION:Duluth Entertainment Convention Center\, 350 Harbor Drive\, Duluth
CATEGORIES:Community Event
END:VEVENT
END:VCALENDAR