BEGIN:VCALENDAR
VERSION:2.0
PRODID:-//Northern Gardener - ECPv6.15.20//NONSGML v1.0//EN
CALSCALE:GREGORIAN
METHOD:PUBLISH
X-ORIGINAL-URL:https://northerngardener.org
X-WR-CALDESC:Events for Northern Gardener
REFRESH-INTERVAL;VALUE=DURATION:PT1H
X-Robots-Tag:noindex
X-PUBLISHED-TTL:PT1H
BEGIN:VTIMEZONE
TZID:America/Chicago
BEGIN:DAYLIGHT
TZOFFSETFROM:-0600
TZOFFSETTO:-0500
TZNAME:CDT
DTSTART:20250309T080000
END:DAYLIGHT
BEGIN:STANDARD
TZOFFSETFROM:-0500
TZOFFSETTO:-0600
TZNAME:CST
DTSTART:20251102T070000
END:STANDARD
BEGIN:DAYLIGHT
TZOFFSETFROM:-0600
TZOFFSETTO:-0500
TZNAME:CDT
DTSTART:20260308T080000
END:DAYLIGHT
BEGIN:STANDARD
TZOFFSETFROM:-0500
TZOFFSETTO:-0600
TZNAME:CST
DTSTART:20261101T070000
END:STANDARD
BEGIN:DAYLIGHT
TZOFFSETFROM:-0600
TZOFFSETTO:-0500
TZNAME:CDT
DTSTART:20270314T080000
END:DAYLIGHT
BEGIN:STANDARD
TZOFFSETFROM:-0500
TZOFFSETTO:-0600
TZNAME:CST
DTSTART:20271107T070000
END:STANDARD
END:VTIMEZONE
BEGIN:VEVENT
DTSTART;TZID=America/Chicago:20260516T090000
DTEND;TZID=America/Chicago:20260516T120000
DTSTAMP:20260422T192509
CREATED:20251121T173003Z
LAST-MODIFIED:20251121T173003Z
UID:10005228-1778922000-1778932800@northerngardener.org
SUMMARY:The Great Plant Sale
DESCRIPTION:Garden Club of Ramsey County \nThe Great Plant Sale May 16\, 2026 – 9:00 am – Noon \nRain or Shine – St. Luke Lutheran Church\, 1807 Field Ave St. Paul\, MN 55116 \nNursey and member grown perennials\, natives and annuals\, heirloom tomatoes and houseplants. Curly willow and Dogwood branches\, books and miscellaneous garden tools and accessories. \n 
URL:https://northerngardener.org/event/the-great-plant-sale/
LOCATION:St. Luke Lutheran Church\, 1807 Field Ave\, St. Paul\, 55116
CATEGORIES:Community Event
ATTACH;FMTTYPE=image/jpeg:https://northerngardener.org/wp-content/uploads/2025/11/Tomato-Pic.jpg
ORGANIZER;CN="Garden Club of Ramsey County":MAILTO:cmorse1956@gmail.com
END:VEVENT
END:VCALENDAR